BEGIN:VCALENDAR
VERSION:2.0
PRODID:-//CGP Stamm Gustav Adolf//NONSGML kigkonsult.se iCalcreator 2.16.12
 //
METHOD:PUBLISH
X-MS-OLK-FORCEINSPECTOROPEN:TRUE
BEGIN:VEVENT
UID:20260420T134030CEST-5909zSPJHk@CGP Stamm Gustav Adolf
DTSTAMP:20260420T114030Z
DESCRIPTION:
DTSTART:20260911T000000
DTEND:20260913T235900
ORGANIZER:MAILTO:CGP Stamm Gustav Adolf <imko@cgp-hh.de>
SUMMARY:Herbstlager
END:VEVENT
END:VCALENDAR
