BEGIN:VCALENDAR
VERSION:2.0
PRODID:-//CGP Stamm Gustav Adolf//NONSGML kigkonsult.se iCalcreator 2.16.12
 //
METHOD:PUBLISH
X-MS-OLK-FORCEINSPECTOROPEN:TRUE
BEGIN:VEVENT
UID:20260420T133539CEST-29004zkBpu@CGP Stamm Gustav Adolf
DTSTAMP:20260420T113539Z
DESCRIPTION:
DTSTART:20261212T000000
DTEND:20261212T235900
ORGANIZER:MAILTO:CGP Stamm Gustav Adolf <imko@cgp-hh.de>
SUMMARY:Bundestag: Duell ums Zelt
END:VEVENT
END:VCALENDAR
